BEGIN:VCALENDAR
VERSION:2.0
PRODID:-//Dot.Asia - ECPv6.15.18//NONSGML v1.0//EN
CALSCALE:GREGORIAN
METHOD:PUBLISH
X-WR-CALNAME:Dot.Asia
X-ORIGINAL-URL:https://dev.dot.asia
X-WR-CALDESC:Events for Dot.Asia
REFRESH-INTERVAL;VALUE=DURATION:PT1H
X-Robots-Tag:noindex
X-PUBLISHED-TTL:PT1H
BEGIN:VTIMEZONE
TZID:UTC
BEGIN:STANDARD
TZOFFSETFROM:+0000
TZOFFSETTO:+0000
TZNAME:UTC
DTSTART:20240101T000000
END:STANDARD
END:VTIMEZONE
BEGIN:VEVENT
DTSTART;TZID=UTC:20250603T060000
DTEND;TZID=UTC:20250603T070000
DTSTAMP:20260420T093019
CREATED:20250521T123301Z
LAST-MODIFIED:20251021T094840Z
UID:11422-1748930400-1748934000@dev.dot.asia
SUMMARY:APrIGF: WSIS+20 Webinar
DESCRIPTION:APrIGF WSIS+20 Working Group – Webinar series
URL:https://dev.dot.asia/da-event/aprigf-wsis20-webinar/
LOCATION:Virtual
END:VEVENT
BEGIN:VEVENT
DTSTART;TZID=UTC:20250609T000000
DTEND;TZID=UTC:20250609T010000
DTSTAMP:20260420T093019
CREATED:20250616T184904Z
LAST-MODIFIED:20251021T094840Z
UID:11474-1749427200-1749430800@dev.dot.asia
SUMMARY:Center for Social Integrity: Internet Governance (IG) Presentation
DESCRIPTION:New partnership/collaboration to educate civil society on Internet Governance and Policy.
URL:https://dev.dot.asia/da-event/center-for-social-integrity-internet-governance-ig-presentation/
LOCATION:Virtual
END:VEVENT
BEGIN:VEVENT
DTSTART;VALUE=DATE:20250609
DTEND;VALUE=DATE:20250613
DTSTAMP:20260420T093019
CREATED:20250616T184904Z
LAST-MODIFIED:20251021T094840Z
UID:11475-1749427200-1749772799@dev.dot.asia
SUMMARY:ICANN83 Policy Forum
DESCRIPTION:Policy Forum
URL:https://dev.dot.asia/da-event/icann83-policy-forum/
LOCATION:Prague
END:VEVENT
BEGIN:VEVENT
DTSTART;VALUE=DATE:20250623
DTEND;VALUE=DATE:20250628
DTSTAMP:20260420T093019
CREATED:20250521T123301Z
LAST-MODIFIED:20251021T094840Z
UID:11424-1750636800-1751068799@dev.dot.asia
SUMMARY:IGF 2025
DESCRIPTION:Internet Governance Forum
URL:https://dev.dot.asia/da-event/igf-2025/
LOCATION:Lillestrom
END:VEVENT
END:VCALENDAR