BEGIN:VCALENDAR
VERSION:2.0
PRODID:-//Dot.Asia - ECPv6.15.18//NONSGML v1.0//EN
CALSCALE:GREGORIAN
METHOD:PUBLISH
X-WR-CALNAME:Dot.Asia
X-ORIGINAL-URL:https://dev.dot.asia
X-WR-CALDESC:Events for Dot.Asia
REFRESH-INTERVAL;VALUE=DURATION:PT1H
X-Robots-Tag:noindex
X-PUBLISHED-TTL:PT1H
BEGIN:VTIMEZONE
TZID:UTC
BEGIN:STANDARD
TZOFFSETFROM:+0000
TZOFFSETTO:+0000
TZNAME:UTC
DTSTART:20240101T000000
END:STANDARD
END:VTIMEZONE
BEGIN:VEVENT
DTSTART;VALUE=DATE:20250505
DTEND;VALUE=DATE:20250508
DTSTAMP:20260420T194905
CREATED:20250521T123300Z
LAST-MODIFIED:20251021T094840Z
UID:11414-1746403200-1746662399@dev.dot.asia
SUMMARY:CP Summit
DESCRIPTION:ICANN Contracted Parties Summit
URL:https://dev.dot.asia/da-event/cp-summit/
LOCATION:Hanoi
END:VEVENT
BEGIN:VEVENT
DTSTART;VALUE=DATE:20250507
DTEND;VALUE=DATE:20250510
DTSTAMP:20260420T194905
CREATED:20250521T123301Z
LAST-MODIFIED:20251021T094840Z
UID:11415-1746576000-1746835199@dev.dot.asia
SUMMARY:GoCreate! Domain Innovations
DESCRIPTION:DotAsia Event @ ICANN APAC DNS Forum
URL:https://dev.dot.asia/da-event/gocreate-domain-innovations/
LOCATION:Hanoi
END:VEVENT
BEGIN:VEVENT
DTSTART;VALUE=DATE:20250508
DTEND;VALUE=DATE:20250510
DTSTAMP:20260420T194905
CREATED:20250521T123301Z
LAST-MODIFIED:20251021T094840Z
UID:11417-1746662400-1746835199@dev.dot.asia
SUMMARY:ICANN APAC DNS Forum
DESCRIPTION:APAC DNS Forum
URL:https://dev.dot.asia/da-event/icann-apac-dns-forum/
LOCATION:Hanoi
END:VEVENT
BEGIN:VEVENT
DTSTART;TZID=UTC:20250508T020000
DTEND;TZID=UTC:20250508T043000
DTSTAMP:20260420T194905
CREATED:20250521T123301Z
LAST-MODIFIED:20251021T094840Z
UID:11416-1746669600-1746678600@dev.dot.asia
SUMMARY:UA Day
DESCRIPTION:UA Day @ APAC DNS Forum
URL:https://dev.dot.asia/da-event/ua-day/
LOCATION:Hanoi
END:VEVENT
BEGIN:VEVENT
DTSTART;TZID=UTC:20250520T130000
DTEND;TZID=UTC:20250520T170000
DTSTAMP:20260420T194905
CREATED:20250521T123301Z
LAST-MODIFIED:20251021T094840Z
UID:11418-1747746000-1747760400@dev.dot.asia
SUMMARY:Breaking Barriers: Universal Acceptance and Multilingualism as Gateways to Digital Access
DESCRIPTION:Half-Day UA Day Regional Strategy Event / CODI Launch
URL:https://dev.dot.asia/da-event/breaking-barriers-universal-acceptance-and-multilingualism-as-gateways-to-digital-access/
LOCATION:Washington\, D.C.
END:VEVENT
BEGIN:VEVENT
DTSTART;TZID=UTC:20250522T043000
DTEND;TZID=UTC:20250522T063000
DTSTAMP:20260420T194905
CREATED:20250521T123301Z
LAST-MODIFIED:20251021T094840Z
UID:11419-1747888200-1747895400@dev.dot.asia
SUMMARY:KISA - New gTLD Policy Briefing Session
DESCRIPTION:KISA – New gTLD Policy Briefing Session
URL:https://dev.dot.asia/da-event/kisa-new-gtld-policy-briefing-session/
LOCATION:Seoul
END:VEVENT
BEGIN:VEVENT
DTSTART;TZID=UTC:20250523T160000
DTEND;TZID=UTC:20250523T173000
DTSTAMP:20260420T194905
CREATED:20250521T123301Z
LAST-MODIFIED:20251021T094840Z
UID:11420-1748016000-1748021400@dev.dot.asia
SUMMARY:SSIG 2025 - IGF regional perspectives
DESCRIPTION:South School on Internet Governance
URL:https://dev.dot.asia/da-event/ssig-2025-igf-regional-perspectives/
LOCATION:Mexico City
END:VEVENT
BEGIN:VEVENT
DTSTART;TZID=UTC:20250530T140000
DTEND;TZID=UTC:20250520T153000
DTSTAMP:20260420T194905
CREATED:20250521T123301Z
LAST-MODIFIED:20251021T094840Z
UID:11421-1748613600-1747755000@dev.dot.asia
SUMMARY:30 Anos CGI.br - Governança da Internet: conexões entre o local\, regional e o global
DESCRIPTION:15th Brazil IGF\, 30th anniversary of CGI.br
URL:https://dev.dot.asia/da-event/30-anos-cgi-br-governanca-da-internet-conexoes-entre-o-local-regional-e-o-global/
LOCATION:Salvador
END:VEVENT
END:VCALENDAR