BEGIN:VCALENDAR
VERSION:2.0
PRODID:-//Dot.Asia - ECPv6.15.18//NONSGML v1.0//EN
CALSCALE:GREGORIAN
METHOD:PUBLISH
X-WR-CALNAME:Dot.Asia
X-ORIGINAL-URL:https://dev.dot.asia
X-WR-CALDESC:Events for Dot.Asia
REFRESH-INTERVAL;VALUE=DURATION:PT1H
X-Robots-Tag:noindex
X-PUBLISHED-TTL:PT1H
BEGIN:VTIMEZONE
TZID:UTC
BEGIN:STANDARD
TZOFFSETFROM:+0000
TZOFFSETTO:+0000
TZNAME:UTC
DTSTART:20240101T000000
END:STANDARD
END:VTIMEZONE
BEGIN:VEVENT
DTSTART;VALUE=DATE:20250307
DTEND;VALUE=DATE:20250308
DTSTAMP:20260421T184133
CREATED:20250521T123259Z
LAST-MODIFIED:20251021T094839Z
UID:11405-1741305600-1741391999@dev.dot.asia
SUMMARY:CIRA Technical Community Summit
DESCRIPTION:CIRA Technical Community Summit
URL:https://dev.dot.asia/da-event/cira-technical-community-summit/
LOCATION:Seattle
END:VEVENT
BEGIN:VEVENT
DTSTART;VALUE=DATE:20250308
DTEND;VALUE=DATE:20250314
DTSTAMP:20260421T184133
CREATED:20250616T184903Z
LAST-MODIFIED:20251021T094839Z
UID:11473-1741392000-1741910399@dev.dot.asia
SUMMARY:ICANN82 Community Forum
DESCRIPTION:Community Forum
URL:https://dev.dot.asia/da-event/icann82-community-forum/
LOCATION:Seattle
END:VEVENT
BEGIN:VEVENT
DTSTART;VALUE=DATE:20250313
DTEND;VALUE=DATE:20250317
DTSTAMP:20260421T184133
CREATED:20250521T123300Z
LAST-MODIFIED:20251021T094839Z
UID:11407-1741824000-1742169599@dev.dot.asia
SUMMARY:APNG Camp
DESCRIPTION:17th APNG Camp
URL:https://dev.dot.asia/da-event/apng-camp/
LOCATION:Fukuoka
END:VEVENT
BEGIN:VEVENT
DTSTART;VALUE=DATE:20250315
DTEND;VALUE=DATE:20250322
DTSTAMP:20260421T184133
CREATED:20250521T123300Z
LAST-MODIFIED:20251021T094839Z
UID:11408-1741996800-1742601599@dev.dot.asia
SUMMARY:IETF 122
DESCRIPTION:Internet Engineering Task Force Meeting
URL:https://dev.dot.asia/da-event/ietf-122/
LOCATION:Bangkok
END:VEVENT
BEGIN:VEVENT
DTSTART;VALUE=DATE:20250324
DTEND;VALUE=DATE:20250325
DTSTAMP:20260421T184133
CREATED:20250521T123300Z
LAST-MODIFIED:20251021T094839Z
UID:11409-1742774400-1742860799@dev.dot.asia
SUMMARY:Unlock Your Online Potential: Preparing for the Next gTLD Round
DESCRIPTION:THNIC New gTLD Event
URL:https://dev.dot.asia/da-event/unlock-your-online-potential-preparing-for-the-next-gtld-round/
LOCATION:Bangkok
END:VEVENT
END:VCALENDAR