BEGIN:VCALENDAR
VERSION:2.0
PRODID:-//Dot.Asia - ECPv6.15.18//NONSGML v1.0//EN
CALSCALE:GREGORIAN
METHOD:PUBLISH
X-ORIGINAL-URL:https://dev.dot.asia
X-WR-CALDESC:Events for Dot.Asia
REFRESH-INTERVAL;VALUE=DURATION:PT1H
X-Robots-Tag:noindex
X-PUBLISHED-TTL:PT1H
BEGIN:VTIMEZONE
TZID:UTC
BEGIN:STANDARD
TZOFFSETFROM:+0000
TZOFFSETTO:+0000
TZNAME:UTC
DTSTART:20240101T000000
END:STANDARD
END:VTIMEZONE
BEGIN:VEVENT
DTSTART;VALUE=DATE:20250707
DTEND;VALUE=DATE:20250712
DTSTAMP:20260420T080649
CREATED:20250521T123302Z
LAST-MODIFIED:20251021T094840Z
UID:11425-1751846400-1752278399@dev.dot.asia
SUMMARY:WSIS+20 High Level Event
DESCRIPTION:WSIS+20 High Level Event hosted by the ITU
URL:https://dev.dot.asia/da-event/wsis20-high-level-event/
LOCATION:Geneva
END:VEVENT
END:VCALENDAR