BEGIN:VCALENDAR
VERSION:2.0
PRODID:-//Dot.Asia - ECPv6.15.18//NONSGML v1.0//EN
CALSCALE:GREGORIAN
METHOD:PUBLISH
X-WR-CALNAME:Dot.Asia
X-ORIGINAL-URL:https://dev.dot.asia
X-WR-CALDESC:Events for Dot.Asia
REFRESH-INTERVAL;VALUE=DURATION:PT1H
X-Robots-Tag:noindex
X-PUBLISHED-TTL:PT1H
BEGIN:VTIMEZONE
TZID:UTC
BEGIN:STANDARD
TZOFFSETFROM:+0000
TZOFFSETTO:+0000
TZNAME:UTC
DTSTART:20240101T000000
END:STANDARD
END:VTIMEZONE
BEGIN:VEVENT
DTSTART;VALUE=DATE:20250702
DTEND;VALUE=DATE:20250704
DTSTAMP:20260420T010740
CREATED:20250616T194834Z
LAST-MODIFIED:20251021T094840Z
UID:11479-1751414400-1751587199@dev.dot.asia
SUMMARY:APAC Youth: WSIS+20 Webinar Series
DESCRIPTION:APAC Youth: WSIS+20 Webinar Series
URL:https://dev.dot.asia/da-event/apac-youth-wsis20-webinar-series/
LOCATION:Virtual
END:VEVENT
END:VCALENDAR