BEGIN:VCALENDAR
VERSION:2.0
PRODID:-//Dot.Asia - ECPv6.15.18//NONSGML v1.0//EN
CALSCALE:GREGORIAN
METHOD:PUBLISH
X-WR-CALNAME:Dot.Asia
X-ORIGINAL-URL:https://dev.dot.asia
X-WR-CALDESC:Events for Dot.Asia
REFRESH-INTERVAL;VALUE=DURATION:PT1H
X-Robots-Tag:noindex
X-PUBLISHED-TTL:PT1H
BEGIN:VTIMEZONE
TZID:UTC
BEGIN:STANDARD
TZOFFSETFROM:+0000
TZOFFSETTO:+0000
TZNAME:UTC
DTSTART:20240101T000000
END:STANDARD
END:VTIMEZONE
BEGIN:VEVENT
DTSTART;TZID=UTC:20250603T060000
DTEND;TZID=UTC:20250603T070000
DTSTAMP:20260420T110243
CREATED:20250521T123301Z
LAST-MODIFIED:20251021T094840Z
UID:11422-1748930400-1748934000@dev.dot.asia
SUMMARY:APrIGF: WSIS+20 Webinar
DESCRIPTION:APrIGF WSIS+20 Working Group – Webinar series
URL:https://dev.dot.asia/da-event/aprigf-wsis20-webinar/
LOCATION:Virtual
END:VEVENT
END:VCALENDAR