BEGIN:VCALENDAR
VERSION:2.0
PRODID:-//Dot.Asia - ECPv6.15.18//NONSGML v1.0//EN
CALSCALE:GREGORIAN
METHOD:PUBLISH
X-WR-CALNAME:Dot.Asia
X-ORIGINAL-URL:https://dev.dot.asia
X-WR-CALDESC:Events for Dot.Asia
REFRESH-INTERVAL;VALUE=DURATION:PT1H
X-Robots-Tag:noindex
X-PUBLISHED-TTL:PT1H
BEGIN:VTIMEZONE
TZID:UTC
BEGIN:STANDARD
TZOFFSETFROM:+0000
TZOFFSETTO:+0000
TZNAME:UTC
DTSTART:20240101T000000
END:STANDARD
END:VTIMEZONE
BEGIN:VEVENT
DTSTART;TZID=UTC:20250523T160000
DTEND;TZID=UTC:20250523T173000
DTSTAMP:20260420T180418
CREATED:20250521T123301Z
LAST-MODIFIED:20251021T094840Z
UID:11420-1748016000-1748021400@dev.dot.asia
SUMMARY:SSIG 2025 - IGF regional perspectives
DESCRIPTION:South School on Internet Governance
URL:https://dev.dot.asia/da-event/ssig-2025-igf-regional-perspectives/
LOCATION:Mexico City
END:VEVENT
END:VCALENDAR