BEGIN:VCALENDAR
VERSION:2.0
PRODID:-//Dot.Asia - ECPv6.15.18//NONSGML v1.0//EN
CALSCALE:GREGORIAN
METHOD:PUBLISH
X-WR-CALNAME:Dot.Asia
X-ORIGINAL-URL:https://dev.dot.asia
X-WR-CALDESC:Events for Dot.Asia
REFRESH-INTERVAL;VALUE=DURATION:PT1H
X-Robots-Tag:noindex
X-PUBLISHED-TTL:PT1H
BEGIN:VTIMEZONE
TZID:UTC
BEGIN:STANDARD
TZOFFSETFROM:+0000
TZOFFSETTO:+0000
TZNAME:UTC
DTSTART:20240101T000000
END:STANDARD
END:VTIMEZONE
BEGIN:VEVENT
DTSTART;VALUE=DATE:20250422
DTEND;VALUE=DATE:20250426
DTSTAMP:20260421T184107
CREATED:20250521T123300Z
LAST-MODIFIED:20251021T094839Z
UID:11412-1745280000-1745625599@dev.dot.asia
SUMMARY:TWNIC ICANN Engagement Forum
DESCRIPTION:TWNIC ICANN Engagement Forum
URL:https://dev.dot.asia/da-event/twnic-icann-engagement-forum/
LOCATION:Taipei
END:VEVENT
END:VCALENDAR