BEGIN:VCALENDAR
VERSION:2.0
PRODID:-//Dot.Asia - ECPv6.15.18//NONSGML v1.0//EN
CALSCALE:GREGORIAN
METHOD:PUBLISH
X-ORIGINAL-URL:https://dev.dot.asia
X-WR-CALDESC:Events for Dot.Asia
REFRESH-INTERVAL;VALUE=DURATION:PT1H
X-Robots-Tag:noindex
X-PUBLISHED-TTL:PT1H
BEGIN:VTIMEZONE
TZID:UTC
BEGIN:STANDARD
TZOFFSETFROM:+0000
TZOFFSETTO:+0000
TZNAME:UTC
DTSTART:20240101T000000
END:STANDARD
END:VTIMEZONE
BEGIN:VEVENT
DTSTART;VALUE=DATE:20250219
DTEND;VALUE=DATE:20250228
DTSTAMP:20260421T201917
CREATED:20250521T123259Z
LAST-MODIFIED:20251021T094839Z
UID:11402-1739923200-1740700799@dev.dot.asia
SUMMARY:APRICOT
DESCRIPTION:APRICOT 2025
URL:https://dev.dot.asia/da-event/apricot/
LOCATION:Petaling Jaya
END:VEVENT
BEGIN:VEVENT
DTSTART;VALUE=DATE:20250224
DTEND;VALUE=DATE:20250228
DTSTAMP:20260421T201917
CREATED:20250521T123259Z
LAST-MODIFIED:20251021T094839Z
UID:11404-1740355200-1740700799@dev.dot.asia
SUMMARY:RightsCon
DESCRIPTION:The world’s leading summit on human rights in the digital age
URL:https://dev.dot.asia/da-event/rightscon/
LOCATION:Taipei
END:VEVENT
END:VCALENDAR